BEGIN:VCALENDAR
VERSION:2.0
PRODID:-//Villagexpo - ECPv5.3.1//NONSGML v1.0//EN
CALSCALE:GREGORIAN
METHOD:PUBLISH
X-WR-CALNAME:Villagexpo
X-ORIGINAL-URL:https://www.villagexpo.fr
X-WR-CALDESC:évènements pour Villagexpo
BEGIN:VTIMEZONE
TZID:Europe/Paris
BEGIN:DAYLIGHT
TZOFFSETFROM:+0100
TZOFFSETTO:+0200
TZNAME:CEST
DTSTART:20170326T010000
END:DAYLIGHT
BEGIN:STANDARD
TZOFFSETFROM:+0200
TZOFFSETTO:+0100
TZNAME:CET
DTSTART:20171029T010000
END:STANDARD
END:VTIMEZONE
BEGIN:VEVENT
DTSTART;TZID=Europe/Paris:20170916T113000
DTEND;TZID=Europe/Paris:20170916T203000
DTSTAMP:20260422T042234
CREATED:20170726T105710Z
LAST-MODIFIED:20170815T141445Z
UID:1524-1505561400-1505593800@www.villagexpo.fr
SUMMARY:50 ans
DESCRIPTION:
URL:https://www.villagexpo.fr/event/50-ans/
LOCATION:Hall de Villagexpo\, Place de l'Ile de France\, Saint Michel sur Orge\, 91240\, France
CATEGORIES:Fête
ATTACH;FMTTYPE=image/jpeg:https://www.villagexpo.fr/wp-content/uploads/2017/07/Affiche-5O-ans-20170723-v4-800.jpg
END:VEVENT
END:VCALENDAR